BEGIN:VCALENDAR
VERSION:2.0
PRODID:-//Thames Side Brewery - ECPv6.15.20//NONSGML v1.0//EN
CALSCALE:GREGORIAN
METHOD:PUBLISH
X-WR-CALNAME:Thames Side Brewery
X-ORIGINAL-URL:https://thamessidebrewery.co.uk
X-WR-CALDESC:Events for Thames Side Brewery
REFRESH-INTERVAL;VALUE=DURATION:PT1H
X-Robots-Tag:noindex
X-PUBLISHED-TTL:PT1H
BEGIN:VTIMEZONE
TZID:UTC
BEGIN:STANDARD
TZOFFSETFROM:+0000
TZOFFSETTO:+0000
TZNAME:UTC
DTSTART:20250101T000000
END:STANDARD
END:VTIMEZONE
BEGIN:VEVENT
DTSTART;TZID=UTC:20260421T190000
DTEND;TZID=UTC:20260421T220000
DTSTAMP:20260421T094149
CREATED:20260313T152824Z
LAST-MODIFIED:20260313T152832Z
UID:4385-1776798000-1776808800@thamessidebrewery.co.uk
SUMMARY:Comedy Night - Wrong Side of the Tracks - Ticketed
DESCRIPTION:We are very pleased to announce that ThamesSide Brewery have teamed up with Wrong Side of the Tracks to bring a monthly comedy club. \nMore information from www.facebook.com/wrongsideofthetrackscomedy/ \nLine Up: \n  \n  \nTickets are £10\, and are available from https://www.jokepit.com \n  \n 
URL:https://thamessidebrewery.co.uk/event/comedy-night-wrong-side-of-the-tracks-ticketed-2-2-2-2-2-2/
ATTACH;FMTTYPE=image/jpeg:https://thamessidebrewery.co.uk/wp-content/uploads/2026/02/2026-03-04-Wrong-Side-of-the-TracksIMG_4707.jpg
END:VEVENT
END:VCALENDAR