BEGIN:VCALENDAR
VERSION:2.0
PRODID:-//Thames Side Brewery - ECPv6.15.20//NONSGML v1.0//EN
CALSCALE:GREGORIAN
METHOD:PUBLISH
X-ORIGINAL-URL:https://thamessidebrewery.co.uk
X-WR-CALDESC:Events for Thames Side Brewery
REFRESH-INTERVAL;VALUE=DURATION:PT1H
X-Robots-Tag:noindex
X-PUBLISHED-TTL:PT1H
BEGIN:VTIMEZONE
TZID:UTC
BEGIN:STANDARD
TZOFFSETFROM:+0000
TZOFFSETTO:+0000
TZNAME:UTC
DTSTART:20220101T000000
END:STANDARD
END:VTIMEZONE
BEGIN:VEVENT
DTSTART;TZID=UTC:20230327T090000
DTEND;TZID=UTC:20230402T200000
DTSTAMP:20260420T133515
CREATED:20230328T160932Z
LAST-MODIFIED:20230329T071334Z
UID:1220-1679907600-1680465600@thamessidebrewery.co.uk
SUMMARY:What's on this week w/c 27th March
DESCRIPTION:
URL:https://thamessidebrewery.co.uk/event/whats-on-this-week-w-c-27th-march/
ATTACH;FMTTYPE=image/jpeg:https://thamessidebrewery.co.uk/wp-content/uploads/2023/03/Whats-on-this-week-27-March-1.jpg
END:VEVENT
BEGIN:VEVENT
DTSTART;TZID=UTC:20230402T150000
DTEND;TZID=UTC:20230402T180000
DTSTAMP:20260420T133515
CREATED:20230328T161450Z
LAST-MODIFIED:20230328T161450Z
UID:1223-1680447600-1680458400@thamessidebrewery.co.uk
SUMMARY:Sunday Afternoon Jazz with Mood Swing
DESCRIPTION:
URL:https://thamessidebrewery.co.uk/event/sunday-afternoon-jazz-with-mood-swing/
ATTACH;FMTTYPE=image/jpeg:https://thamessidebrewery.co.uk/wp-content/uploads/2023/03/Sunday-2nd-April-MoodSwing.jpg
END:VEVENT
BEGIN:VEVENT
DTSTART;TZID=UTC:20230403T090000
DTEND;TZID=UTC:20230410T200000
DTSTAMP:20260420T133515
CREATED:20230403T093845Z
LAST-MODIFIED:20230403T093845Z
UID:1231-1680512400-1681156800@thamessidebrewery.co.uk
SUMMARY:What's on week commencing 3rd April
DESCRIPTION:
URL:https://thamessidebrewery.co.uk/event/whats-on-week-commencing-3rd-april/
ATTACH;FMTTYPE=image/jpeg:https://thamessidebrewery.co.uk/wp-content/uploads/2023/04/Whats-on-this-week-3-April.jpg
END:VEVENT
BEGIN:VEVENT
DTSTART;TZID=UTC:20230405T193000
DTEND;TZID=UTC:20230405T213000
DTSTAMP:20260420T133515
CREATED:20230308T153444Z
LAST-MODIFIED:20230308T153444Z
UID:1190-1680723000-1680730200@thamessidebrewery.co.uk
SUMMARY:Quiz with Becky\, Wednesday 5th April @7.30pm
DESCRIPTION:
URL:https://thamessidebrewery.co.uk/event/quiz-with-becky-wednesday-5th-april-7-30pm/
ATTACH;FMTTYPE=image/jpeg:https://thamessidebrewery.co.uk/wp-content/uploads/2023/03/Quiz-1st-March.jpg
END:VEVENT
BEGIN:VEVENT
DTSTART;TZID=UTC:20230406T180000
DTEND;TZID=UTC:20230406T203000
DTSTAMP:20260420T133515
CREATED:20230308T153721Z
LAST-MODIFIED:20230308T153721Z
UID:1193-1680804000-1680813000@thamessidebrewery.co.uk
SUMMARY:Curry and a Pint Night
DESCRIPTION:
URL:https://thamessidebrewery.co.uk/event/curry-and-a-pint-night-7/
ATTACH;FMTTYPE=image/jpeg:https://thamessidebrewery.co.uk/wp-content/uploads/2023/03/12345-9th-March-CURRY-AND-A-PINT-NIGHT.jpg
END:VEVENT
BEGIN:VEVENT
DTSTART;TZID=UTC:20230409T150000
DTEND;TZID=UTC:20230409T180000
DTSTAMP:20260420T133515
CREATED:20230403T093141Z
LAST-MODIFIED:20230403T093223Z
UID:1227-1681052400-1681063200@thamessidebrewery.co.uk
SUMMARY:LIVE MUSIC with UNBROKEN STIX Easter Sunday
DESCRIPTION:
URL:https://thamessidebrewery.co.uk/event/live-music-with-unbroken-stix-easter-sunday/
ATTACH;FMTTYPE=image/jpeg:https://thamessidebrewery.co.uk/wp-content/uploads/2023/04/Unbroken-Stix.jpg
END:VEVENT
BEGIN:VEVENT
DTSTART;TZID=UTC:20230411T080000
DTEND;TZID=UTC:20230416T200000
DTSTAMP:20260420T133515
CREATED:20230411T100634Z
LAST-MODIFIED:20230411T100634Z
UID:1248-1681200000-1681675200@thamessidebrewery.co.uk
SUMMARY:What's on this week (w/c 10/4/23)
DESCRIPTION:
URL:https://thamessidebrewery.co.uk/event/whats-on-this-week-w-c-10-4-23/
ATTACH;FMTTYPE=image/jpeg:https://thamessidebrewery.co.uk/wp-content/uploads/2023/04/Whats-on-this-week-10-April.jpg
END:VEVENT
BEGIN:VEVENT
DTSTART;TZID=UTC:20230413T180000
DTEND;TZID=UTC:20230413T203000
DTSTAMP:20260420T133515
CREATED:20230308T153833Z
LAST-MODIFIED:20230308T153833Z
UID:1195-1681408800-1681417800@thamessidebrewery.co.uk
SUMMARY:Curry and a Pint Night
DESCRIPTION:
URL:https://thamessidebrewery.co.uk/event/curry-and-a-pint-night-8/
ATTACH;FMTTYPE=image/jpeg:https://thamessidebrewery.co.uk/wp-content/uploads/2023/03/12345-9th-March-CURRY-AND-A-PINT-NIGHT.jpg
END:VEVENT
BEGIN:VEVENT
DTSTART;TZID=UTC:20230414T200000
DTEND;TZID=UTC:20230414T230000
DTSTAMP:20260420T133515
CREATED:20230411T101541Z
LAST-MODIFIED:20230411T101541Z
UID:1251-1681502400-1681513200@thamessidebrewery.co.uk
SUMMARY:'LIVE MUSIC' Friday 14th April
DESCRIPTION:
URL:https://thamessidebrewery.co.uk/event/live-music-friday-14th-april/
ATTACH;FMTTYPE=image/jpeg:https://thamessidebrewery.co.uk/wp-content/uploads/2023/04/14th-April-Steve-Whalley-Band.jpg
END:VEVENT
BEGIN:VEVENT
DTSTART;TZID=UTC:20230417T110000
DTEND;TZID=UTC:20230423T200000
DTSTAMP:20260420T133515
CREATED:20230418T181219Z
LAST-MODIFIED:20230418T181219Z
UID:1270-1681729200-1682280000@thamessidebrewery.co.uk
SUMMARY:What's on this week - w/c 17th April
DESCRIPTION:
URL:https://thamessidebrewery.co.uk/event/whats-on-this-week-w-c-17th-april/
ATTACH;FMTTYPE=image/jpeg:https://thamessidebrewery.co.uk/wp-content/uploads/2023/04/Whats-on-17-April.jpg
END:VEVENT
BEGIN:VEVENT
DTSTART;TZID=UTC:20230420T200000
DTEND;TZID=UTC:20230420T223000
DTSTAMP:20260420T133515
CREATED:20230413T163242Z
LAST-MODIFIED:20230413T163242Z
UID:1266-1682020800-1682029800@thamessidebrewery.co.uk
SUMMARY:Live Music with the Surreals and it's curry and a pint night!
DESCRIPTION:
URL:https://thamessidebrewery.co.uk/event/live-music-with-the-surreals-and-its-curry-and-a-pint-night/
ATTACH;FMTTYPE=image/jpeg:https://thamessidebrewery.co.uk/wp-content/uploads/2023/04/The-Surreals-Thursday-20th-April.jpg
END:VEVENT
BEGIN:VEVENT
DTSTART;TZID=UTC:20230423T130000
DTEND;TZID=UTC:20230423T163000
DTSTAMP:20260420T133515
CREATED:20230418T183526Z
LAST-MODIFIED:20230422T122202Z
UID:1273-1682254800-1682267400@thamessidebrewery.co.uk
SUMMARY:Special Sunday - The Datchet Morris Dancers and The Splinters
DESCRIPTION:
URL:https://thamessidebrewery.co.uk/event/special-sunday-the-datchet-morris-dancers-and-the-splinters/
ATTACH;FMTTYPE=image/jpeg:https://thamessidebrewery.co.uk/wp-content/uploads/2023/04/23rd-April-Morris-Dancing-1.jpg
END:VEVENT
BEGIN:VEVENT
DTSTART;TZID=UTC:20230426T200000
DTEND;TZID=UTC:20230426T220000
DTSTAMP:20260420T133515
CREATED:20230407T183405Z
LAST-MODIFIED:20230407T184034Z
UID:1241-1682539200-1682546400@thamessidebrewery.co.uk
SUMMARY:Comedy Night
DESCRIPTION:‘DIARY DATE’\n\n\nDue to much demand\, we will be hosting our first COMEDY NIGHT\n\n\nWednesday 26th April @ 8pm\n\n\nClick on link to get your tickets\, limited availability.\n\n\nComedy Night @ Thames Side Brewery\, Staines Upon Thames Tickets\, Wed 26 Apr 2023 at 20:00 | Eventbrite
URL:https://thamessidebrewery.co.uk/event/comedy-night/
ATTACH;FMTTYPE=image/jpeg:https://thamessidebrewery.co.uk/wp-content/uploads/2023/04/Comedy-Night-Final.jpg
END:VEVENT
BEGIN:VEVENT
DTSTART;TZID=UTC:20230427T180000
DTEND;TZID=UTC:20230427T203000
DTSTAMP:20260420T133515
CREATED:20230418T185520Z
LAST-MODIFIED:20230418T185520Z
UID:1276-1682618400-1682627400@thamessidebrewery.co.uk
SUMMARY:Curry and a pint night
DESCRIPTION:
URL:https://thamessidebrewery.co.uk/event/curry-and-a-pint-night-9/
ATTACH;FMTTYPE=image/jpeg:https://thamessidebrewery.co.uk/wp-content/uploads/2023/04/CURRY-AND-A-PINT-NIGHT.jpg
END:VEVENT
BEGIN:VEVENT
DTSTART;TZID=UTC:20230428T200000
DTEND;TZID=UTC:20230428T223000
DTSTAMP:20260420T133515
CREATED:20230413T161130Z
LAST-MODIFIED:20230413T161358Z
UID:1259-1682712000-1682721000@thamessidebrewery.co.uk
SUMMARY:Live Music with Legomen
DESCRIPTION:
URL:https://thamessidebrewery.co.uk/event/live-music-with-legomen/
ATTACH;FMTTYPE=image/jpeg:https://thamessidebrewery.co.uk/wp-content/uploads/2023/04/Legoman-1.jpg
END:VEVENT
BEGIN:VEVENT
DTSTART;TZID=UTC:20230429T200000
DTEND;TZID=UTC:20230429T223000
DTSTAMP:20260420T133515
CREATED:20230425T095103Z
LAST-MODIFIED:20230425T095157Z
UID:1283-1682798400-1682807400@thamessidebrewery.co.uk
SUMMARY:Special Saturday Night - Boogaloo Themed with Live Music from Cajun Boogaloo & South American Menu
DESCRIPTION:
URL:https://thamessidebrewery.co.uk/event/special-saturday-night-boogaloo-theme-with-live-music-from-cajun-boogaloo-south-american-menu/
ATTACH;FMTTYPE=image/jpeg:https://thamessidebrewery.co.uk/wp-content/uploads/2023/04/Boogaloo.jpg
END:VEVENT
BEGIN:VEVENT
DTSTART;TZID=UTC:20230430T150000
DTEND;TZID=UTC:20230430T180000
DTSTAMP:20260420T133515
CREATED:20230413T154106Z
LAST-MODIFIED:20230413T154106Z
UID:1256-1682866800-1682877600@thamessidebrewery.co.uk
SUMMARY:Open Mic - Sunday 30th April @3pm
DESCRIPTION:
URL:https://thamessidebrewery.co.uk/event/open-mic-sunday-30th-april-3pm/
ATTACH;FMTTYPE=image/jpeg:https://thamessidebrewery.co.uk/wp-content/uploads/2023/04/30TH-APRIL-OPEN-MIC.jpg
END:VEVENT
END:VCALENDAR